BEGIN:VCALENDAR
VERSION:2.0
PRODID:Digitale Woche Rhein-Erft - topiclodge
X-WR-TIMEZONE:Europe/Berlin
X-PUBLISHED-TTL:P1W
BEGIN:VEVENT
UID:69e7758d34d8c
DTSTART;TZID=Europe/Berlin:20250908T160000
SEQUENCE:0
TRANSP:OPAQUE
DTEND;TZID=Europe/Berlin:20250908T173000
URL:https://www.dwre.de/veranstaltung/digitale-zusammenarbeit/
LOCATION:Kreissparkasse Köln - Frechen\, gr. Besprechungszimmer (EG)\, Hau
 ptstr. 61 - 67\, 50226 Frechen
X-APPLE-STRUCTURED-LOCATION;VALUE=URI;X-ADDRESS="Kreissparkasse Köln - Fre
 chen, gr. Besprechungszimmer (EG), Hauptstr. 61 - 67, 50226 Frechen";X-APP
 LE-RADIUS=49;X-TITLE=Kreissparkasse Köln - Frechen:geo:50.9100178\,6.8105
 992
SUMMARY:DWRE - Digitale Zusammenarbeit: Homeoffice und Videoberatung … al
 les ist möglich
CLASS:PUBLIC
DESCRIPTION:Veranstalter:\nKreissparkasse Köln - Frechen\, digital. zusamm
 en. arbeiten.\n\n
DTSTAMP:20260421T150309Z
END:VEVENT
BEGIN:VTIMEZONE
TZID:Europe/Berlin
X-LIC-LOCATION:Europe/Berlin
BEGIN:DAYLIGHT
TZNAME:CEST
TZOFFSETFROM:+0100
TZOFFSETTO:+0200
DTSTART:19810329T030000
RRULE:FREQ=YEARLY;INTERVAL=1;BYMONTH=3;BYDAY=-1SU
END:DAYLIGHT
BEGIN:STANDARD
TZNAME:CET
TZOFFSETFROM:+0200
TZOFFSETTO:+0100
DTSTART:19961027T030000
RRULE:FREQ=YEARLY;INTERVAL=1;BYMONTH=10;BYDAY=-1SU
END:STANDARD
END:VTIMEZONE
END:VCALENDAR