BEGIN:VCALENDAR
VERSION:2.0
PRODID:Digitale Woche Rhein-Erft - topiclodge
X-WR-TIMEZONE:Europe/Berlin
X-PUBLISHED-TTL:P1W
BEGIN:VEVENT
UID:69e76d7f25c14
DTSTART;TZID=Europe/Berlin:20250908T090000
SEQUENCE:0
TRANSP:OPAQUE
DTEND;TZID=Europe/Berlin:20250908T140000
URL:https://www.dwre.de/veranstaltung/3-rhein-erft-coding-challenge/
LOCATION:Interaktiv GmbH\, Visteonstraße 9\, 50170 Kerpen
X-APPLE-STRUCTURED-LOCATION;VALUE=URI;X-ADDRESS="Interaktiv GmbH, Visteonst
 raße 9, 50170 Kerpen";X-APPLE-RADIUS=49;X-TITLE=Interaktiv GmbH:geo:50.89
 31362\,6.6779083
SUMMARY:DWRE - 3. Rhein-Erft Coding Challenge
CLASS:PUBLIC
DESCRIPTION:Der Schulhackathon\n\nHashtag:\n#dwre\n\nVeranstalter:\nInterak
 tiv GmbH\, WFG Rhein-Erft\, Rhein-Erft-Kreis\, Brühl digital\, MoSeven\, 
 Stadt Kerpen\n\n
DTSTAMP:20260421T142847Z
END:VEVENT
BEGIN:VTIMEZONE
TZID:Europe/Berlin
X-LIC-LOCATION:Europe/Berlin
BEGIN:DAYLIGHT
TZNAME:CEST
TZOFFSETFROM:+0100
TZOFFSETTO:+0200
DTSTART:19810329T030000
RRULE:FREQ=YEARLY;INTERVAL=1;BYMONTH=3;BYDAY=-1SU
END:DAYLIGHT
BEGIN:STANDARD
TZNAME:CET
TZOFFSETFROM:+0200
TZOFFSETTO:+0100
DTSTART:19961027T030000
RRULE:FREQ=YEARLY;INTERVAL=1;BYMONTH=10;BYDAY=-1SU
END:STANDARD
END:VTIMEZONE
END:VCALENDAR