BEGIN:VCALENDAR
VERSION:2.0
PRODID:Digitale Woche Rhein-Erft - topiclodge
X-WR-TIMEZONE:Europe/Berlin
X-PUBLISHED-TTL:P1W
BEGIN:VEVENT
UID:69e7781c0d611
DTSTART;TZID=Europe/Berlin:20250909T100000
SEQUENCE:0
TRANSP:OPAQUE
DTEND;TZID=Europe/Berlin:20250909T173000
URL:https://www.dwre.de/veranstaltung/mintkickt-huerth/
LOCATION:AI Village\, An der Hasenkaule 10\, 50354 Hürth
X-APPLE-STRUCTURED-LOCATION;VALUE=URI;X-ADDRESS="AI Village, An der Hasenka
 ule 10, 50354 Hürth";X-APPLE-RADIUS=49;X-TITLE=AI Village:geo:50.87793782
 9896\,6.9083511829376
SUMMARY:DWRE - MINTKICKT: Innovative Berufsorientierung
CLASS:PUBLIC
DESCRIPTION:Berufsorientierung trifft MINT & Gamification\n\nHashtag:\n##MI
 NTKICKT_AI-Village\n\nVeranstalter:\nROCKID.one\n\n
DTSTAMP:20260421T151404Z
END:VEVENT
BEGIN:VTIMEZONE
TZID:Europe/Berlin
X-LIC-LOCATION:Europe/Berlin
BEGIN:DAYLIGHT
TZNAME:CEST
TZOFFSETFROM:+0100
TZOFFSETTO:+0200
DTSTART:19810329T030000
RRULE:FREQ=YEARLY;INTERVAL=1;BYMONTH=3;BYDAY=-1SU
END:DAYLIGHT
BEGIN:STANDARD
TZNAME:CET
TZOFFSETFROM:+0200
TZOFFSETTO:+0100
DTSTART:19961027T030000
RRULE:FREQ=YEARLY;INTERVAL=1;BYMONTH=10;BYDAY=-1SU
END:STANDARD
END:VTIMEZONE
END:VCALENDAR