BEGIN:VCALENDAR
VERSION:2.0
PRODID:Digitale Woche Rhein-Erft - topiclodge
X-WR-TIMEZONE:Europe/Berlin
X-PUBLISHED-TTL:P1W
BEGIN:VEVENT
UID:69e51d54663a4
DTSTART;TZID=Europe/Berlin:20230904T164500
SEQUENCE:0
TRANSP:OPAQUE
DTEND;TZID=Europe/Berlin:20230904T173000
URL:https://www.dwre.de/veranstaltung/vorstellung-des-masterplans-digitalpa
 rks-im-rhein-kreis-neuss-und-rhein-erft-kreis/
LOCATION:JCB\, 1. Obergeschoss JCB Deutschland GmbH\, Europaallee 113\, 502
 26 Frechen
X-APPLE-STRUCTURED-LOCATION;VALUE=URI;X-ADDRESS="JCB, 1. Obergeschoss JCB D
 eutschland GmbH, Europaallee 113, 50226 Frechen";X-APPLE-RADIUS=49;X-TITLE
 =JCB:geo:50.9261585\,6.8324589
SUMMARY:DWRE - Vorstellung des Masterplans Digitalparks im Rhein-Kreis Neus
 s und Rhein-Erft-Kreis
CLASS:PUBLIC
DESCRIPTION:Veranstalter:\nDrees & Sommer\n\n
DTSTAMP:20260419T202212Z
END:VEVENT
BEGIN:VTIMEZONE
TZID:Europe/Berlin
X-LIC-LOCATION:Europe/Berlin
BEGIN:DAYLIGHT
TZNAME:CEST
TZOFFSETFROM:+0100
TZOFFSETTO:+0200
DTSTART:19810329T030000
RRULE:FREQ=YEARLY;INTERVAL=1;BYMONTH=3;BYDAY=-1SU
END:DAYLIGHT
BEGIN:STANDARD
TZNAME:CET
TZOFFSETFROM:+0200
TZOFFSETTO:+0100
DTSTART:19961027T030000
RRULE:FREQ=YEARLY;INTERVAL=1;BYMONTH=10;BYDAY=-1SU
END:STANDARD
END:VTIMEZONE
END:VCALENDAR