BEGIN:VCALENDAR
VERSION:2.0
PRODID:Digitale Woche Rhein-Erft - topiclodge
X-WR-TIMEZONE:Europe/Berlin
X-PUBLISHED-TTL:P1W
BEGIN:VEVENT
UID:69e77850a7c35
DTSTART;TZID=Europe/Berlin:20230907T110000
SEQUENCE:0
TRANSP:OPAQUE
DTEND;TZID=Europe/Berlin:20230907T130000
URL:https://www.dwre.de/veranstaltung/digitales-rathaus-vor-ort/
LOCATION:Wesselinger Forum\, (Vor dem Forum)\, Flach-Fengler-Straße 48-54 
 \, 50389 Wesseling
X-APPLE-STRUCTURED-LOCATION;VALUE=URI;X-ADDRESS="Wesselinger Forum, (Vor de
 m Forum), Flach-Fengler-Straße 48-54 , 50389 Wesseling";X-APPLE-RADIUS=49
 ;X-TITLE=Wesselinger Forum:geo:50.8227012\,6.9784545
SUMMARY:DWRE - Digitales Rathaus vor Ort
CLASS:PUBLIC
DESCRIPTION:Das Digitale Rathaus der Stadt Wesseling bietet viele Leistunge
 n rund um die Uhr an.\n\nVeranstalter:\nWirtschaftsförderung der Stadt We
 sseling\n\n
DTSTAMP:20260421T151456Z
END:VEVENT
BEGIN:VTIMEZONE
TZID:Europe/Berlin
X-LIC-LOCATION:Europe/Berlin
BEGIN:DAYLIGHT
TZNAME:CEST
TZOFFSETFROM:+0100
TZOFFSETTO:+0200
DTSTART:19810329T030000
RRULE:FREQ=YEARLY;INTERVAL=1;BYMONTH=3;BYDAY=-1SU
END:DAYLIGHT
BEGIN:STANDARD
TZNAME:CET
TZOFFSETFROM:+0200
TZOFFSETTO:+0100
DTSTART:19961027T030000
RRULE:FREQ=YEARLY;INTERVAL=1;BYMONTH=10;BYDAY=-1SU
END:STANDARD
END:VTIMEZONE
END:VCALENDAR