BEGIN:VCALENDAR
VERSION:2.0
PRODID:Digitale Woche Rhein-Erft - topiclodge
X-WR-TIMEZONE:Europe/Berlin
X-PUBLISHED-TTL:P1W
BEGIN:VEVENT
UID:69e778159e84f
DTSTART;TZID=Europe/Berlin:20230904T130000
SEQUENCE:0
TRANSP:OPAQUE
DTEND;TZID=Europe/Berlin:20230904T140000
URL:https://www.dwre.de/veranstaltung/ki-hybrid/
LOCATION:AI Village\, Bitte beachten Sie unbedingt die Anfahrtsbeschreibung
 !\, An der Hasenkaule 10\, 50354 Hürth
X-APPLE-STRUCTURED-LOCATION;VALUE=URI;X-ADDRESS="AI Village, Bitte beachten
  Sie unbedingt die Anfahrtsbeschreibung!, An der Hasenkaule 10, 50354 Hür
 th";X-APPLE-RADIUS=49;X-TITLE=AI Village:geo:50.877937829896\,6.9083511829
 376
SUMMARY:DWRE - Digital? K.ann I.ch! – Hybrid-Workshop zu KI- gestützter 
 Lern- und Nachhilfeplattform
CLASS:PUBLIC
DESCRIPTION:Wie kann KI Bildungsgerechtigkeit erreichen und Kinder individu
 ell fördern?\n\nVeranstalter:\nROCKID.one\, LearnMate\, AI Village\, Star
 t Hürth\n\n
DTSTAMP:20260421T151357Z
END:VEVENT
BEGIN:VTIMEZONE
TZID:Europe/Berlin
X-LIC-LOCATION:Europe/Berlin
BEGIN:DAYLIGHT
TZNAME:CEST
TZOFFSETFROM:+0100
TZOFFSETTO:+0200
DTSTART:19810329T030000
RRULE:FREQ=YEARLY;INTERVAL=1;BYMONTH=3;BYDAY=-1SU
END:DAYLIGHT
BEGIN:STANDARD
TZNAME:CET
TZOFFSETFROM:+0200
TZOFFSETTO:+0100
DTSTART:19961027T030000
RRULE:FREQ=YEARLY;INTERVAL=1;BYMONTH=10;BYDAY=-1SU
END:STANDARD
END:VTIMEZONE
END:VCALENDAR