BEGIN:VCALENDAR
VERSION:2.0
PRODID:Digitale Woche Rhein-Erft - topiclodge
X-WR-TIMEZONE:Europe/Berlin
X-PUBLISHED-TTL:P1W
BEGIN:VEVENT
UID:69e5049cb7c4a
DTSTART;TZID=Europe/Berlin:20230906T110000
SEQUENCE:0
TRANSP:OPAQUE
DTEND;TZID=Europe/Berlin:20230906T123000
URL:https://www.dwre.de/veranstaltung/mensch-technologie/
LOCATION:Belvedere\, Workshopraum\, Burgstraße 17\, 50321 Brühl
X-APPLE-STRUCTURED-LOCATION;VALUE=URI;X-ADDRESS="Belvedere, Workshopraum, B
 urgstraße 17, 50321 Brühl";X-APPLE-RADIUS=49;X-TITLE=Belvedere:geo:50.82
 94708\,6.9062194
SUMMARY:DWRE - Menschliche Werte in der digitalen (Geschäfts-)Welt: Brauch
 en wir das oder kann das weg?
CLASS:PUBLIC
DESCRIPTION:Hashtag:\n#bruehldigital\n\nVeranstalter:\nBrühl digital\n\n
DTSTAMP:20260419T183644Z
END:VEVENT
BEGIN:VTIMEZONE
TZID:Europe/Berlin
X-LIC-LOCATION:Europe/Berlin
BEGIN:DAYLIGHT
TZNAME:CEST
TZOFFSETFROM:+0100
TZOFFSETTO:+0200
DTSTART:19810329T030000
RRULE:FREQ=YEARLY;INTERVAL=1;BYMONTH=3;BYDAY=-1SU
END:DAYLIGHT
BEGIN:STANDARD
TZNAME:CET
TZOFFSETFROM:+0200
TZOFFSETTO:+0100
DTSTART:19961027T030000
RRULE:FREQ=YEARLY;INTERVAL=1;BYMONTH=10;BYDAY=-1SU
END:STANDARD
END:VTIMEZONE
END:VCALENDAR