BEGIN:VCALENDAR
VERSION:2.0
PRODID:Digitale Woche Rhein-Erft - topiclodge
X-WR-TIMEZONE:Europe/Berlin
X-PUBLISHED-TTL:P1W
BEGIN:VEVENT
UID:69e5049cc6b38
DTSTART;TZID=Europe/Berlin:20230904T163000
SEQUENCE:0
TRANSP:OPAQUE
DTEND;TZID=Europe/Berlin:20230904T210000
URL:https://www.dwre.de/veranstaltung/digital-summit/
LOCATION:JCB\, Europaallee 113\, 50226 Frechen
X-APPLE-STRUCTURED-LOCATION;VALUE=URI;X-ADDRESS="JCB, Europaallee 113, 5022
 6 Frechen";X-APPLE-RADIUS=49;X-TITLE=JCB:geo:50.9261585\,6.8324589
SUMMARY:DWRE - Digital Summit
CLASS:PUBLIC
DESCRIPTION:Offizielle Eröffnungsfeier der Digitalen Woche Rhein-Erft\n\nH
 ashtag:\n#DWRE\n\nVeranstalter:\nRhein-Erft-Kreis\, WFG Rhein-Erft\n\n
DTSTAMP:20260419T183644Z
END:VEVENT
BEGIN:VTIMEZONE
TZID:Europe/Berlin
X-LIC-LOCATION:Europe/Berlin
BEGIN:DAYLIGHT
TZNAME:CEST
TZOFFSETFROM:+0100
TZOFFSETTO:+0200
DTSTART:19810329T030000
RRULE:FREQ=YEARLY;INTERVAL=1;BYMONTH=3;BYDAY=-1SU
END:DAYLIGHT
BEGIN:STANDARD
TZNAME:CET
TZOFFSETFROM:+0200
TZOFFSETTO:+0100
DTSTART:19961027T030000
RRULE:FREQ=YEARLY;INTERVAL=1;BYMONTH=10;BYDAY=-1SU
END:STANDARD
END:VTIMEZONE
END:VCALENDAR