BEGIN:VCALENDAR
VERSION:2.0
PRODID:Digitale Woche Rhein-Erft - topiclodge
X-WR-TIMEZONE:Europe/Berlin
X-PUBLISHED-TTL:P1W
BEGIN:VEVENT
UID:69e61b6ccc663
DTSTART;TZID=Europe/Berlin:20230907T090000
SEQUENCE:0
TRANSP:OPAQUE
DTEND;TZID=Europe/Berlin:20230907T170000
URL:https://www.dwre.de/veranstaltung/esport-studie/
LOCATION:Erftverband\, Am Erftverband 6\, 50126 Bergheim
X-APPLE-STRUCTURED-LOCATION;VALUE=URI;X-ADDRESS="Erftverband, Am Erftverban
 d 6, 50126 Bergheim";X-APPLE-RADIUS=49;X-TITLE=Erftverband:geo:50.9604775\
 ,6.6307905
SUMMARY:DWRE - eSport Studie
CLASS:PUBLIC
DESCRIPTION:Was können Gamer\, Firmen und Schulen aus den Studienergebniss
 en lernen?\n\nVeranstalter:\nAOK\, Erftverband\n\n
DTSTAMP:20260420T142620Z
END:VEVENT
BEGIN:VTIMEZONE
TZID:Europe/Berlin
X-LIC-LOCATION:Europe/Berlin
BEGIN:DAYLIGHT
TZNAME:CEST
TZOFFSETFROM:+0100
TZOFFSETTO:+0200
DTSTART:19810329T030000
RRULE:FREQ=YEARLY;INTERVAL=1;BYMONTH=3;BYDAY=-1SU
END:DAYLIGHT
BEGIN:STANDARD
TZNAME:CET
TZOFFSETFROM:+0200
TZOFFSETTO:+0100
DTSTART:19961027T030000
RRULE:FREQ=YEARLY;INTERVAL=1;BYMONTH=10;BYDAY=-1SU
END:STANDARD
END:VTIMEZONE
END:VCALENDAR