BEGIN:VCALENDAR
VERSION:2.0
PRODID:Digitale Woche Rhein-Erft - topiclodge
X-WR-TIMEZONE:Europe/Berlin
X-PUBLISHED-TTL:P1W
BEGIN:VEVENT
UID:69e6cef6aba1b
DTSTART;TZID=Europe/Berlin:20230908T163000
SEQUENCE:0
TRANSP:OPAQUE
DTEND;TZID=Europe/Berlin:20230908T173000
URL:https://www.dwre.de/veranstaltung/onlinebanking-wesseling/
LOCATION:Kreissparkasse Köln - Wesseling\, Flach-Fengler-Straße 48 - 54\,
  50389 Wesseling
X-APPLE-STRUCTURED-LOCATION;VALUE=URI;X-ADDRESS="Kreissparkasse Köln - Wes
 seling, Flach-Fengler-Straße 48 - 54, 50389 Wesseling";X-APPLE-RADIUS=49;
 X-TITLE=Kreissparkasse Köln - Wesseling:geo:50.8229463\,6.9777894
SUMMARY:DWRE - Sicher im OnlineBanking unterwegs
CLASS:PUBLIC
DESCRIPTION:Schutz vor Enkeltrick & Co.\n\nVeranstalter:\nKreissparkasse K
 öln\, Polizei Rhein-Erft\n\n
DTSTAMP:20260421T031222Z
END:VEVENT
BEGIN:VTIMEZONE
TZID:Europe/Berlin
X-LIC-LOCATION:Europe/Berlin
BEGIN:DAYLIGHT
TZNAME:CEST
TZOFFSETFROM:+0100
TZOFFSETTO:+0200
DTSTART:19810329T030000
RRULE:FREQ=YEARLY;INTERVAL=1;BYMONTH=3;BYDAY=-1SU
END:DAYLIGHT
BEGIN:STANDARD
TZNAME:CET
TZOFFSETFROM:+0200
TZOFFSETTO:+0100
DTSTART:19961027T030000
RRULE:FREQ=YEARLY;INTERVAL=1;BYMONTH=10;BYDAY=-1SU
END:STANDARD
END:VTIMEZONE
END:VCALENDAR