BEGIN:VCALENDAR
VERSION:2.0
PRODID:Digitale Woche Rhein-Erft - topiclodge
X-WR-TIMEZONE:Europe/Berlin
X-PUBLISHED-TTL:P1W
BEGIN:VEVENT
UID:69e6d20f9cbb7
DTSTART;TZID=Europe/Berlin:20230907T160000
SEQUENCE:0
TRANSP:OPAQUE
DTEND;TZID=Europe/Berlin:20230907T173000
URL:https://www.dwre.de/veranstaltung/stadtboomer-live/
LOCATION:STATUS QUODT\, Veranstaltungssaal im 1. OG\, Bahnhofstr. 7\, 50321
  Brühl
X-APPLE-STRUCTURED-LOCATION;VALUE=URI;X-ADDRESS="STATUS QUODT, Veranstaltun
 gssaal im 1. OG, Bahnhofstr. 7, 50321 Brühl";X-APPLE-RADIUS=49;X-TITLE=ST
 ATUS QUODT:geo:50.82906\,6.90547
SUMMARY:DWRE - STADTBOOMER® Stadtgutscheine „Live“
CLASS:PUBLIC
DESCRIPTION:Das STADTBOOMER®  Gutschein Universum ist gut für Dich\, Dein
 e Stadt und Deine Vereine\n\nHashtag:\n#regiomanager\n\nVeranstalter:\nDig
 ital Marketing Hero\n\n
DTSTAMP:20260421T032535Z
END:VEVENT
BEGIN:VTIMEZONE
TZID:Europe/Berlin
X-LIC-LOCATION:Europe/Berlin
BEGIN:DAYLIGHT
TZNAME:CEST
TZOFFSETFROM:+0100
TZOFFSETTO:+0200
DTSTART:19810329T030000
RRULE:FREQ=YEARLY;INTERVAL=1;BYMONTH=3;BYDAY=-1SU
END:DAYLIGHT
BEGIN:STANDARD
TZNAME:CET
TZOFFSETFROM:+0200
TZOFFSETTO:+0100
DTSTART:19961027T030000
RRULE:FREQ=YEARLY;INTERVAL=1;BYMONTH=10;BYDAY=-1SU
END:STANDARD
END:VTIMEZONE
END:VCALENDAR