BEGIN:VCALENDAR
VERSION:2.0
PRODID:Digitale Woche Rhein-Erft - topiclodge
X-WR-TIMEZONE:Europe/Berlin
X-PUBLISHED-TTL:P1W
BEGIN:VEVENT
UID:69e6ba2c1e040
DTSTART;TZID=Europe/Berlin:20230906T130000
SEQUENCE:0
TRANSP:OPAQUE
DTEND;TZID=Europe/Berlin:20230906T140000
URL:https://www.dwre.de/veranstaltung/stadtboomer-mittwoch/
SUMMARY:DWRE - STADTBOOMER® Stadtgutscheine
CLASS:PUBLIC
DESCRIPTION:Das STADTBOOMER®  Gutschein Universum ist gut für Dich\, Dein
 e Stadt und Deine Vereine\n\nHashtag:\n#regiomarketing\n\nVeranstalter:\nD
 igital Marketing Hero\n\n
DTSTAMP:20260421T014340Z
END:VEVENT
BEGIN:VTIMEZONE
TZID:Europe/Berlin
X-LIC-LOCATION:Europe/Berlin
BEGIN:DAYLIGHT
TZNAME:CEST
TZOFFSETFROM:+0100
TZOFFSETTO:+0200
DTSTART:19810329T030000
RRULE:FREQ=YEARLY;INTERVAL=1;BYMONTH=3;BYDAY=-1SU
END:DAYLIGHT
BEGIN:STANDARD
TZNAME:CET
TZOFFSETFROM:+0200
TZOFFSETTO:+0100
DTSTART:19961027T030000
RRULE:FREQ=YEARLY;INTERVAL=1;BYMONTH=10;BYDAY=-1SU
END:STANDARD
END:VTIMEZONE
END:VCALENDAR