BEGIN:VCALENDAR
VERSION:2.0
PRODID:Digitale Woche Rhein-Erft - topiclodge
X-WR-TIMEZONE:Europe/Berlin
X-PUBLISHED-TTL:P1W
BEGIN:VEVENT
UID:69e7edbdc7345
DTSTART;TZID=Europe/Berlin:20230905T160000
SEQUENCE:0
TRANSP:OPAQUE
DTEND;TZID=Europe/Berlin:20230905T173000
URL:https://www.dwre.de/veranstaltung/digitalisierung-in-der-ausbildung/
LOCATION:Evonik\, Brühler Straße 2\, 50389 Wesseling
X-APPLE-STRUCTURED-LOCATION;VALUE=URI;X-ADDRESS="Evonik, Brühler Straße 2
 , 50389 Wesseling";X-APPLE-RADIUS=49;X-TITLE=Evonik:geo:50.8329729\,6.9763
 718
SUMMARY:DWRE - Digitalisierung in der Ausbildung
CLASS:PUBLIC
DESCRIPTION:Industrie 4.0 ist möglich\n\nVeranstalter:\nEvonik\n\n
DTSTAMP:20260421T233557Z
END:VEVENT
BEGIN:VTIMEZONE
TZID:Europe/Berlin
X-LIC-LOCATION:Europe/Berlin
BEGIN:DAYLIGHT
TZNAME:CEST
TZOFFSETFROM:+0100
TZOFFSETTO:+0200
DTSTART:19810329T030000
RRULE:FREQ=YEARLY;INTERVAL=1;BYMONTH=3;BYDAY=-1SU
END:DAYLIGHT
BEGIN:STANDARD
TZNAME:CET
TZOFFSETFROM:+0200
TZOFFSETTO:+0100
DTSTART:19961027T030000
RRULE:FREQ=YEARLY;INTERVAL=1;BYMONTH=10;BYDAY=-1SU
END:STANDARD
END:VTIMEZONE
END:VCALENDAR