BEGIN:VCALENDAR
VERSION:2.0
PRODID:Digitale Woche Rhein-Erft - topiclodge
X-WR-TIMEZONE:Europe/Berlin
X-PUBLISHED-TTL:P1W
BEGIN:VEVENT
UID:69e6b57828e8a
DTSTART;TZID=Europe/Berlin:20230906T110000
SEQUENCE:0
TRANSP:OPAQUE
DTEND;TZID=Europe/Berlin:20230906T120000
URL:https://www.dwre.de/veranstaltung/greenwashing/
SUMMARY:DWRE - Greenwashing leicht gemacht – wie grün sind wir wirklich?
CLASS:PUBLIC
DESCRIPTION:Nachhaltiges Handeln in einer zunehmend digitalisierten Welt\n\
 nHashtag:\n#Nachhhaltigkeit\n\nVeranstalter:\nlernen bohlscheid\n\n
DTSTAMP:20260421T012336Z
END:VEVENT
BEGIN:VTIMEZONE
TZID:Europe/Berlin
X-LIC-LOCATION:Europe/Berlin
BEGIN:DAYLIGHT
TZNAME:CEST
TZOFFSETFROM:+0100
TZOFFSETTO:+0200
DTSTART:19810329T030000
RRULE:FREQ=YEARLY;INTERVAL=1;BYMONTH=3;BYDAY=-1SU
END:DAYLIGHT
BEGIN:STANDARD
TZNAME:CET
TZOFFSETFROM:+0200
TZOFFSETTO:+0100
DTSTART:19961027T030000
RRULE:FREQ=YEARLY;INTERVAL=1;BYMONTH=10;BYDAY=-1SU
END:STANDARD
END:VTIMEZONE
END:VCALENDAR