BEGIN:VCALENDAR
VERSION:2.0
PRODID:Digitale Woche Rhein-Erft - topiclodge
X-WR-TIMEZONE:Europe/Berlin
X-PUBLISHED-TTL:P1W
BEGIN:VEVENT
UID:69e69e0e14f50
DTSTART;TZID=Europe/Berlin:20230906T170000
SEQUENCE:0
TRANSP:OPAQUE
DTEND;TZID=Europe/Berlin:20230906T180000
URL:https://www.dwre.de/veranstaltung/website-optimierung/
LOCATION:Kreishandwerkerschaft\, Heinrich-Nagel-Saal\, Kölner Str. 2\, 502
 26 Frechen
X-APPLE-STRUCTURED-LOCATION;VALUE=URI;X-ADDRESS="Kreishandwerkerschaft, Hei
 nrich-Nagel-Saal, Kölner Str. 2, 50226 Frechen";X-APPLE-RADIUS=49;X-TITLE
 =Kreishandwerkerschaft:geo:50.910257\,6.8153615
SUMMARY:DWRE - 10 Maßnahmen zur Website-Optimierung
CLASS:PUBLIC
DESCRIPTION:Veranstalter:\nHWK Köln\, Kreishandwerkerschaft\n\n
DTSTAMP:20260420T234342Z
END:VEVENT
BEGIN:VTIMEZONE
TZID:Europe/Berlin
X-LIC-LOCATION:Europe/Berlin
BEGIN:DAYLIGHT
TZNAME:CEST
TZOFFSETFROM:+0100
TZOFFSETTO:+0200
DTSTART:19810329T030000
RRULE:FREQ=YEARLY;INTERVAL=1;BYMONTH=3;BYDAY=-1SU
END:DAYLIGHT
BEGIN:STANDARD
TZNAME:CET
TZOFFSETFROM:+0200
TZOFFSETTO:+0100
DTSTART:19961027T030000
RRULE:FREQ=YEARLY;INTERVAL=1;BYMONTH=10;BYDAY=-1SU
END:STANDARD
END:VTIMEZONE
END:VCALENDAR