BEGIN:VCALENDAR
VERSION:2.0
PRODID:Digitale Woche Rhein-Erft - topiclodge
X-WR-TIMEZONE:Europe/Berlin
X-PUBLISHED-TTL:P1W
BEGIN:VEVENT
UID:69e69d1179071
DTSTART;TZID=Europe/Berlin:20230905T173000
SEQUENCE:0
TRANSP:OPAQUE
DTEND;TZID=Europe/Berlin:20230905T190000
URL:https://www.dwre.de/veranstaltung/projekt-zukunft/
LOCATION:Image Engineering\, Besprechungsraum\, Im Gleisdreieck 5\, 50169 K
 erpen
X-APPLE-STRUCTURED-LOCATION;VALUE=URI;X-ADDRESS="Image Engineering, Besprec
 hungsraum, Im Gleisdreieck 5, 50169 Kerpen";X-APPLE-RADIUS=49;X-TITLE=Imag
 e Engineering:geo:50.9183004\,6.7148237
SUMMARY:DWRE - Projekt Zukunft
CLASS:PUBLIC
DESCRIPTION:Kameras im Automobil\n\nVeranstalter:\nImage Engineering\n\n
DTSTAMP:20260420T233929Z
END:VEVENT
BEGIN:VTIMEZONE
TZID:Europe/Berlin
X-LIC-LOCATION:Europe/Berlin
BEGIN:DAYLIGHT
TZNAME:CEST
TZOFFSETFROM:+0100
TZOFFSETTO:+0200
DTSTART:19810329T030000
RRULE:FREQ=YEARLY;INTERVAL=1;BYMONTH=3;BYDAY=-1SU
END:DAYLIGHT
BEGIN:STANDARD
TZNAME:CET
TZOFFSETFROM:+0200
TZOFFSETTO:+0100
DTSTART:19961027T030000
RRULE:FREQ=YEARLY;INTERVAL=1;BYMONTH=10;BYDAY=-1SU
END:STANDARD
END:VTIMEZONE
END:VCALENDAR