BEGIN:VCALENDAR
VERSION:2.0
PRODID:Digitale Woche Rhein-Erft - topiclodge
X-WR-TIMEZONE:Europe/Berlin
X-PUBLISHED-TTL:P1W
BEGIN:VEVENT
UID:69e51ea35707a
DTSTART;TZID=Europe/Berlin:20230908T100000
SEQUENCE:0
TRANSP:OPAQUE
DTEND;TZID=Europe/Berlin:20230908T170000
URL:https://www.dwre.de/veranstaltung/digitale-wertschoepfung/
LOCATION:Blockchain Reallabor\, An der Hasenkaule 10\, 50354 Hürth
X-APPLE-STRUCTURED-LOCATION;VALUE=URI;X-ADDRESS="Blockchain Reallabor, An d
 er Hasenkaule 10, 50354 Hürth";X-APPLE-RADIUS=49;X-TITLE=Blockchain Reall
 abor:geo:50.877937829896\,6.9083511829376
SUMMARY:DWRE - Digitale Wertschöpfung durch Netzwerke in Produktion\, Hand
 werk und Handel
CLASS:PUBLIC
DESCRIPTION:U.a. durch Game-based Learning und digitale Geschäftsmodelle\n
 \nVeranstalter:\nMittelstand-Digital Zentrum Rheinland\, Mittelstand-Digit
 alzentrum WertNetzWerke\, TH Köln\n\n
DTSTAMP:20260419T202747Z
END:VEVENT
BEGIN:VTIMEZONE
TZID:Europe/Berlin
X-LIC-LOCATION:Europe/Berlin
BEGIN:DAYLIGHT
TZNAME:CEST
TZOFFSETFROM:+0100
TZOFFSETTO:+0200
DTSTART:19810329T030000
RRULE:FREQ=YEARLY;INTERVAL=1;BYMONTH=3;BYDAY=-1SU
END:DAYLIGHT
BEGIN:STANDARD
TZNAME:CET
TZOFFSETFROM:+0200
TZOFFSETTO:+0100
DTSTART:19961027T030000
RRULE:FREQ=YEARLY;INTERVAL=1;BYMONTH=10;BYDAY=-1SU
END:STANDARD
END:VTIMEZONE
END:VCALENDAR