BEGIN:VCALENDAR
VERSION:2.0
PRODID:Digitale Woche Rhein-Erft - topiclodge
X-WR-TIMEZONE:Europe/Berlin
X-PUBLISHED-TTL:P1W
BEGIN:VEVENT
UID:69e51cf052801
DTSTART;TZID=Europe/Berlin:20230906T180000
SEQUENCE:0
TRANSP:OPAQUE
DTEND;TZID=Europe/Berlin:20230906T210000
URL:https://www.dwre.de/veranstaltung/mich-gibt-es-zweimal/
LOCATION:netable\, Albert-Einstein-Str. 18\, 50226 Frechen
X-APPLE-STRUCTURED-LOCATION;VALUE=URI;X-ADDRESS="netable, Albert-Einstein-S
 tr. 18, 50226 Frechen";X-APPLE-RADIUS=49;X-TITLE=netable:geo:50.92021\,6.8
 1999
SUMMARY:DWRE - Hilfe! Mich gibt es zweimal!
CLASS:PUBLIC
DESCRIPTION:Umgang mit Datenpannen im Unternehmen! \n\nHashtag:\n#umgangmit
 datenpannen\n\nVeranstalter:\nnetable\n\n
DTSTAMP:20260419T202032Z
END:VEVENT
BEGIN:VTIMEZONE
TZID:Europe/Berlin
X-LIC-LOCATION:Europe/Berlin
BEGIN:DAYLIGHT
TZNAME:CEST
TZOFFSETFROM:+0100
TZOFFSETTO:+0200
DTSTART:19810329T030000
RRULE:FREQ=YEARLY;INTERVAL=1;BYMONTH=3;BYDAY=-1SU
END:DAYLIGHT
BEGIN:STANDARD
TZNAME:CET
TZOFFSETFROM:+0200
TZOFFSETTO:+0100
DTSTART:19961027T030000
RRULE:FREQ=YEARLY;INTERVAL=1;BYMONTH=10;BYDAY=-1SU
END:STANDARD
END:VTIMEZONE
END:VCALENDAR