BEGIN:VCALENDAR
VERSION:2.0
PRODID:Digitale Woche Rhein-Erft - topiclodge
X-WR-TIMEZONE:Europe/Berlin
X-PUBLISHED-TTL:P1W
BEGIN:VEVENT
UID:69e771c93a40d
DTSTART;TZID=Europe/Berlin:20230906T110000
SEQUENCE:0
TRANSP:OPAQUE
DTEND;TZID=Europe/Berlin:20230906T163000
URL:https://www.dwre.de/veranstaltung/vr-und-geriatrie-bedburg/
LOCATION:AWO Bedburg\, Leitweg 1\, 50181 Bedburg
X-APPLE-STRUCTURED-LOCATION;VALUE=URI;X-ADDRESS="AWO Bedburg, Leitweg 1, 50
 181 Bedburg";X-APPLE-RADIUS=49;X-TITLE=AWO Bedburg:geo:50.9826665\,6.57406
 89
SUMMARY:DWRE - Virtuelle Realität und Geriatrie – Bedburg
CLASS:PUBLIC
DESCRIPTION:Aktivierung und Training mit interaktiven Spielen\n\nVeranstalt
 er:\nSilverFit\n\n
DTSTAMP:20260421T144705Z
END:VEVENT
BEGIN:VTIMEZONE
TZID:Europe/Berlin
X-LIC-LOCATION:Europe/Berlin
BEGIN:DAYLIGHT
TZNAME:CEST
TZOFFSETFROM:+0100
TZOFFSETTO:+0200
DTSTART:19810329T030000
RRULE:FREQ=YEARLY;INTERVAL=1;BYMONTH=3;BYDAY=-1SU
END:DAYLIGHT
BEGIN:STANDARD
TZNAME:CET
TZOFFSETFROM:+0200
TZOFFSETTO:+0100
DTSTART:19961027T030000
RRULE:FREQ=YEARLY;INTERVAL=1;BYMONTH=10;BYDAY=-1SU
END:STANDARD
END:VTIMEZONE
END:VCALENDAR