BEGIN:VCALENDAR
VERSION:2.0
PRODID:Digitale Woche Rhein-Erft - topiclodge
X-WR-TIMEZONE:Europe/Berlin
X-PUBLISHED-TTL:P1W
BEGIN:VEVENT
UID:69e63072e9750
DTSTART;TZID=Europe/Berlin:20230909T160000
SEQUENCE:0
TRANSP:OPAQUE
DTEND;TZID=Europe/Berlin:20230909T170000
URL:https://www.dwre.de/veranstaltung/instagram-leicht-gemacht/
LOCATION:tüllträume\, Ladenlokal\, Hauptstraße 24\, 50226 Frechen
X-APPLE-STRUCTURED-LOCATION;VALUE=URI;X-ADDRESS="tüllträume, Ladenlokal, 
 Hauptstraße 24, 50226 Frechen";X-APPLE-RADIUS=49;X-TITLE=tüllträume:geo
 :50.909744\,6.8132281
SUMMARY:DWRE - Instagram leicht gemacht
CLASS:PUBLIC
DESCRIPTION:Entdecke die Grundlagen von Instagram und wie Du sie für Dein 
 Unternehmen nutzen kannst – speziell für Händlerinnen und Händler\n\n
 Veranstalter:\nStadt Frechen\, Handelsverband NRW\, CIMA\n\n
DTSTAMP:20260420T155602Z
END:VEVENT
BEGIN:VTIMEZONE
TZID:Europe/Berlin
X-LIC-LOCATION:Europe/Berlin
BEGIN:DAYLIGHT
TZNAME:CEST
TZOFFSETFROM:+0100
TZOFFSETTO:+0200
DTSTART:19810329T030000
RRULE:FREQ=YEARLY;INTERVAL=1;BYMONTH=3;BYDAY=-1SU
END:DAYLIGHT
BEGIN:STANDARD
TZNAME:CET
TZOFFSETFROM:+0200
TZOFFSETTO:+0100
DTSTART:19961027T030000
RRULE:FREQ=YEARLY;INTERVAL=1;BYMONTH=10;BYDAY=-1SU
END:STANDARD
END:VTIMEZONE
END:VCALENDAR