BEGIN:VCALENDAR
VERSION:2.0
PRODID:Digitale Woche Rhein-Erft - topiclodge
X-WR-TIMEZONE:Europe/Berlin
X-PUBLISHED-TTL:P1W
BEGIN:VEVENT
UID:69e62b29509e7
DTSTART;TZID=Europe/Berlin:20230907T183000
SEQUENCE:0
TRANSP:OPAQUE
DTEND;TZID=Europe/Berlin:20230907T203000
URL:https://www.dwre.de/veranstaltung/youtube-marketing/
LOCATION:Stadt Frechen\, Rathaus - Besprechungsraum 103\, Johann-Schmitz-Pl
 atz 1-3\, 50226 Frechen
X-APPLE-STRUCTURED-LOCATION;VALUE=URI;X-ADDRESS="Stadt Frechen, Rathaus - B
 esprechungsraum 103, Johann-Schmitz-Platz 1-3, 50226 Frechen";X-APPLE-RADI
 US=49;X-TITLE=Stadt Frechen:geo:50.9088619\,6.8087469
SUMMARY:DWRE - Mit YouTube-Marketing bekannt werden
CLASS:PUBLIC
DESCRIPTION:Baue einen erfolgreichen YouTube-Kanal als Marketing auf und zi
 ehe darüber konstant neue Kunden an\n\nVeranstalter:\nStadt Frechen\, So 
 geht YouTube\n\n
DTSTAMP:20260420T153329Z
END:VEVENT
BEGIN:VTIMEZONE
TZID:Europe/Berlin
X-LIC-LOCATION:Europe/Berlin
BEGIN:DAYLIGHT
TZNAME:CEST
TZOFFSETFROM:+0100
TZOFFSETTO:+0200
DTSTART:19810329T030000
RRULE:FREQ=YEARLY;INTERVAL=1;BYMONTH=3;BYDAY=-1SU
END:DAYLIGHT
BEGIN:STANDARD
TZNAME:CET
TZOFFSETFROM:+0200
TZOFFSETTO:+0100
DTSTART:19961027T030000
RRULE:FREQ=YEARLY;INTERVAL=1;BYMONTH=10;BYDAY=-1SU
END:STANDARD
END:VTIMEZONE
END:VCALENDAR