BEGIN:VCALENDAR
VERSION:2.0
PRODID:Digitale Woche Rhein-Erft - topiclodge
X-WR-TIMEZONE:Europe/Berlin
X-PUBLISHED-TTL:P1W
BEGIN:VEVENT
UID:69e73eb6b6e1b
DTSTART;TZID=Europe/Berlin:20230904T150000
SEQUENCE:0
TRANSP:OPAQUE
DTEND;TZID=Europe/Berlin:20230904T160000
URL:https://www.dwre.de/veranstaltung/effektives-recruiting/
LOCATION:\, https://teams.microsoft.com/l/meetup-join/19%3ameeting_YjdiZjE0
 MzgtZTQ3Mi00YzQ3LTlhZjgtMzgyZDlkNTBiYWJj%40thread.v2/0?context=%7b%22Tid%2
 2%3a%22d3c357ef-8f15-42fa-af12-a047583bf181%22%2c%22Oid%22%3a%2246f14675-9
 427-4836-b7e4-49386a0ab90a%22%7d
SUMMARY:DWRE - Effektives Recruiting
CLASS:PUBLIC
DESCRIPTION:Praxistipps für eine zielführende Mitarbeitergewinnung\n\nVer
 anstalter:\nRAG Interactive\, Rheinische Anzeigenblätter\n\n
DTSTAMP:20260421T110910Z
END:VEVENT
BEGIN:VTIMEZONE
TZID:Europe/Berlin
X-LIC-LOCATION:Europe/Berlin
BEGIN:DAYLIGHT
TZNAME:CEST
TZOFFSETFROM:+0100
TZOFFSETTO:+0200
DTSTART:19810329T030000
RRULE:FREQ=YEARLY;INTERVAL=1;BYMONTH=3;BYDAY=-1SU
END:DAYLIGHT
BEGIN:STANDARD
TZNAME:CET
TZOFFSETFROM:+0200
TZOFFSETTO:+0100
DTSTART:19961027T030000
RRULE:FREQ=YEARLY;INTERVAL=1;BYMONTH=10;BYDAY=-1SU
END:STANDARD
END:VTIMEZONE
END:VCALENDAR