BEGIN:VCALENDAR
VERSION:2.0
PRODID:Digitale Woche Rhein-Erft - topiclodge
X-WR-TIMEZONE:Europe/Berlin
X-PUBLISHED-TTL:P1W
BEGIN:VEVENT
UID:69e504262cfd4
DTSTART;TZID=Europe/Berlin:20230906T090000
SEQUENCE:0
TRANSP:OPAQUE
DTEND;TZID=Europe/Berlin:20230906T180000
URL:https://www.dwre.de/veranstaltung/web3-convention/
LOCATION:Blockchain Reallabor\, Studio 6\, An der Hasenkaule 10\, 50354 Hü
 rth
X-APPLE-STRUCTURED-LOCATION;VALUE=URI;X-ADDRESS="Blockchain Reallabor, Stud
 io 6, An der Hasenkaule 10, 50354 Hürth";X-APPLE-RADIUS=49;X-TITLE=Blockc
 hain Reallabor:geo:50.877937829896\,6.9083511829376
SUMMARY:DWRE - Web3 Convention 2023
CLASS:PUBLIC
DESCRIPTION:Entdecken Sie die Zukunft des Internets - für Anfänger und Fo
 rtgeschrittene\n\nVeranstalter:\nBlockchain Reallabor\n\n
DTSTAMP:20260419T183446Z
END:VEVENT
BEGIN:VTIMEZONE
TZID:Europe/Berlin
X-LIC-LOCATION:Europe/Berlin
BEGIN:DAYLIGHT
TZNAME:CEST
TZOFFSETFROM:+0100
TZOFFSETTO:+0200
DTSTART:19810329T030000
RRULE:FREQ=YEARLY;INTERVAL=1;BYMONTH=3;BYDAY=-1SU
END:DAYLIGHT
BEGIN:STANDARD
TZNAME:CET
TZOFFSETFROM:+0200
TZOFFSETTO:+0100
DTSTART:19961027T030000
RRULE:FREQ=YEARLY;INTERVAL=1;BYMONTH=10;BYDAY=-1SU
END:STANDARD
END:VTIMEZONE
END:VCALENDAR